BEGIN:VCALENDAR
PRODID:-//PINUTS.DE//UNI-BAYREUTH EVENTCALENDAR Version 2018.1//DE
VERSION:2.0
CALSCALE:GREGORIAN
METHOD:PUBLISH
X-WR-CALNAME:forschungsfoerderung
X-WR-TIMEZONE:Europe/Berlin
BEGIN:VTIMEZONE
TZID:Europe/Berlin
X-LIC-LOCATION:Europe/Berlin
BEGIN:DAYLIGHT
TZOFFSETFROM:+0100
TZOFFSETTO:+0200
TZNAME:CEST
DTSTART:19700329T020000
RRULE:FREQ=YEARLY;BYMONTH=3;BYDAY=-1SU
END:DAYLIGHT
BEGIN:STANDARD
TZOFFSETFROM:+0200
TZOFFSETTO:+0100
TZNAME:CET
DTSTART:19701025T030000
RRULE:FREQ=YEARLY;BYMONTH=10;BYDAY=-1SU
END:STANDARD
END:VTIMEZONE
BEGIN:VEVENT
DTSTAMP:20260422T083744Z
DTSTART:20240118T130000Z
DTEND:20240118T160000Z
UID:107913477_eventcalender@uni-bayreuth.de
ORGANIZER;CN=Team Veranstalungsmanagement:mailto:info@uni-bayreuth.de
STATUS:CONFIRMED
CATEGORIES:forschungsfoerderung
SUMMARY:Workshop „Horizon Europe Funding Opportunities on Batteries“
DESCRIPTION:
LOCATION:Campus, NWII, S84 (14:00-15:30) and S82 (16:00-17:00)
END:VEVENT
END:VCALENDAR